BEGIN:VCALENDAR
VERSION:2.0
PRODID:-//LinkResearchTools - ECPv4.7.1//NONSGML v1.0//EN
CALSCALE:GREGORIAN
METHOD:PUBLISH
X-WR-CALNAME:LinkResearchTools
X-ORIGINAL-URL:https://www.linkresearchtools.com
X-WR-CALDESC:Events for LinkResearchTools
BEGIN:VEVENT
DTSTART;TZID=Europe/Vienna:20190122T090000
DTEND;TZID=Europe/Vienna:20190123T180000
DTSTAMP:20181218T124351
CREATED:20180612T175010Z
LAST-MODIFIED:20181103T214137Z
UID:52418-1548147600-1548266400@www.linkresearchtools.com
SUMMARY:LRT Certified Professional Workshop in English\, Vienna\, January 22-23 2019
DESCRIPTION:\n\n\n\n\n\nWhat you get\n\n2 days hands-on workshop with Christoph C. Cemper\nCompetitive Analysis\nSell SEO\, Links and Link Audits the right way\nGoogle Penalties\nLink Audits and Link Risk Management\nLink Sources\nLive Examples in LRT\nFinal assignment and certificate\nLifetime Access to the LRT Certified Community\nLRT VIP dinner with Christoph\nAccess to all material used.\nFull access to the Superhero SEO Card\n\nDon’t miss LRTcon the same week – the new Link Building Charity Conference.\n  \n
URL:https://www.linkresearchtools.com/event/lrt-certified-professional-vienna-201901/
LOCATION:LinkResearchTools\, LinkResearchTools\, Am Langen Felde 12\, Vienna\, 1220\, Austria
CATEGORIES:LRT Certified Professional,Workshops
ATTACH;FMTTYPE=image/jpeg:https://cdn.linkresearchtools.com/wp-content/uploads/2018/06/iStock-vienna-opera-sun-rise-526544978-1024x656-1.jpg
ORGANIZER;CN="LinkResearchTools%20%28LRT%29":MAILTO:feedback@linkresearchtools.com
END:VEVENT
END:VCALENDAR